BEGIN:VCALENDAR
VERSION:2.0
PRODID:-//Egmont A &amp; P Association - ECPv6.15.20//NONSGML v1.0//EN
CALSCALE:GREGORIAN
METHOD:PUBLISH
X-WR-CALNAME:Egmont A &amp; P Association
X-ORIGINAL-URL:https://www.egmontshowgrounds.org.nz
X-WR-CALDESC:Events for Egmont A &amp; P Association
REFRESH-INTERVAL;VALUE=DURATION:PT1H
X-Robots-Tag:noindex
X-PUBLISHED-TTL:PT1H
BEGIN:VTIMEZONE
TZID:Pacific/Auckland
BEGIN:STANDARD
TZOFFSETFROM:+1300
TZOFFSETTO:+1200
TZNAME:NZST
DTSTART:20230401T140000
END:STANDARD
BEGIN:DAYLIGHT
TZOFFSETFROM:+1200
TZOFFSETTO:+1300
TZNAME:NZDT
DTSTART:20230923T140000
END:DAYLIGHT
BEGIN:STANDARD
TZOFFSETFROM:+1300
TZOFFSETTO:+1200
TZNAME:NZST
DTSTART:20240406T140000
END:STANDARD
BEGIN:DAYLIGHT
TZOFFSETFROM:+1200
TZOFFSETTO:+1300
TZNAME:NZDT
DTSTART:20240928T140000
END:DAYLIGHT
BEGIN:STANDARD
TZOFFSETFROM:+1300
TZOFFSETTO:+1200
TZNAME:NZST
DTSTART:20250405T140000
END:STANDARD
BEGIN:DAYLIGHT
TZOFFSETFROM:+1200
TZOFFSETTO:+1300
TZNAME:NZDT
DTSTART:20250927T140000
END:DAYLIGHT
END:VTIMEZONE
BEGIN:VEVENT
DTSTART;VALUE=DATE:20241130
DTEND;VALUE=DATE:20241202
DTSTAMP:20260420T004214
CREATED:20240402T080531Z
LAST-MODIFIED:20240929T025756Z
UID:3732-1732924800-1733097599@www.egmontshowgrounds.org.nz
SUMMARY:NMHSNZ - Miniature Horse Show
DESCRIPTION:TSB x 2 days20 Yards D BlockRDA x 2 daysCamping x 3 days \nThis date was originally booked by Fleur Horrock – canceled via email 17.7.2024 \nFrom: Fleur Horrocks <fleurhorrocks@yahoo.co.nz> Sent: Wednesday\, July 17\, 2024 11:28 AMTo: Angela Pennefather <info@egmontshowgrounds.org.nz>Subject: Re: Egmont Showgrounds Booking Confirmation \n  \nHi Angela \n  \nI have been informed this date clashes with 2 other eventsin the Taranaki area so we have made the decision to cancel this bookingplease. 29th November 2024 to 1st Dec 2024. \n  \nMany thanks \nFleur
URL:https://www.egmontshowgrounds.org.nz/event/nmhsnz-miniature-horse-show/
END:VEVENT
BEGIN:VEVENT
DTSTART;VALUE=DATE:20241130
DTEND;VALUE=DATE:20241202
DTSTAMP:20260420T004214
CREATED:20240402T080531Z
LAST-MODIFIED:20241201T091016Z
UID:3733-1732924800-1733097599@www.egmontshowgrounds.org.nz
SUMMARY:RDA Room Booked
DESCRIPTION:
URL:https://www.egmontshowgrounds.org.nz/event/rda-room-booked-7/
END:VEVENT
BEGIN:VEVENT
DTSTART;TZID=Pacific/Auckland:20241202T173000
DTEND;TZID=Pacific/Auckland:20241202T200000
DTSTAMP:20260420T004214
CREATED:20221202T175715Z
LAST-MODIFIED:20241113T064130Z
UID:2525-1733160600-1733169600@www.egmontshowgrounds.org.nz
SUMMARY:Gone 2 The Dogs - Training
DESCRIPTION:Vicky Andreoli – 027 512 2482
URL:https://www.egmontshowgrounds.org.nz/event/gone-2-the-dogs-training-568/
LOCATION:Expo Hall
END:VEVENT
BEGIN:VEVENT
DTSTART;VALUE=DATE:20241203
DTEND;VALUE=DATE:20241204
DTSTAMP:20260420T004214
CREATED:20240910T000046Z
LAST-MODIFIED:20241203T092942Z
UID:4095-1733184000-1733270399@www.egmontshowgrounds.org.nz
SUMMARY:Vanessa Lesson
DESCRIPTION:Booking made 9.9.2024\nSue Cole 027 296 4091
URL:https://www.egmontshowgrounds.org.nz/event/vanessa-lesson-12/
END:VEVENT
BEGIN:VEVENT
DTSTART;TZID=Pacific/Auckland:20241205T173000
DTEND;TZID=Pacific/Auckland:20241205T200000
DTSTAMP:20260420T004214
CREATED:20221205T183210Z
LAST-MODIFIED:20230330T213342Z
UID:2529-1733419800-1733428800@www.egmontshowgrounds.org.nz
SUMMARY:Gone to the Dogs
DESCRIPTION:
URL:https://www.egmontshowgrounds.org.nz/event/gone-to-the-dogs-405/
LOCATION:Presidents Expo Hall
END:VEVENT
BEGIN:VEVENT
DTSTART;VALUE=DATE:20241207
DTEND;VALUE=DATE:20241209
DTSTAMP:20260420T004214
CREATED:20240909T000116Z
LAST-MODIFIED:20241202T092511Z
UID:4091-1733529600-1733702399@www.egmontshowgrounds.org.nz
SUMMARY:Sharon Stevens - TBC
DESCRIPTION:As per conversation with Sharon Stevens 25.7.2024
URL:https://www.egmontshowgrounds.org.nz/event/sharon-stevens-tbc/
END:VEVENT
BEGIN:VEVENT
DTSTART;VALUE=DATE:20241209
DTEND;VALUE=DATE:20241210
DTSTAMP:20260420T004214
CREATED:20241119T071827Z
LAST-MODIFIED:20241209T101215Z
UID:4222-1733702400-1733788799@www.egmontshowgrounds.org.nz
SUMMARY:2025 A & P Show Committee Meeting
DESCRIPTION:
URL:https://www.egmontshowgrounds.org.nz/event/2025-a-p-show-committee-meeting/
END:VEVENT
BEGIN:VEVENT
DTSTART;TZID=Pacific/Auckland:20241209T193000
DTEND;TZID=Pacific/Auckland:20241209T213000
DTSTAMP:20260420T004214
CREATED:20221209T191938Z
LAST-MODIFIED:20230518T091809Z
UID:2537-1733772600-1733779800@www.egmontshowgrounds.org.nz
SUMMARY:Executive Meeting
DESCRIPTION:
URL:https://www.egmontshowgrounds.org.nz/event/executive-meeting-132/
LOCATION:Egmont A&P Showgrounds
END:VEVENT
BEGIN:VEVENT
DTSTART;VALUE=DATE:20241212
DTEND;VALUE=DATE:20241213
DTSTAMP:20260420T004214
CREATED:20241121T072636Z
LAST-MODIFIED:20241212T101211Z
UID:4225-1733961600-1734047999@www.egmontshowgrounds.org.nz
SUMMARY:Twilight Progressive Jumping - Hawera Pony Club
DESCRIPTION:Booking made: 20.11.2024Booking made by: Georgina Maud 0275551860TSB 3 hours
URL:https://www.egmontshowgrounds.org.nz/event/twilight-progressive-jumping-hawera-pony-club/
END:VEVENT
BEGIN:VEVENT
DTSTART;TZID=Pacific/Auckland:20241212T173000
DTEND;TZID=Pacific/Auckland:20241212T200000
DTSTAMP:20260420T004214
CREATED:20221215T201531Z
LAST-MODIFIED:20230330T213342Z
UID:2550-1734024600-1734033600@www.egmontshowgrounds.org.nz
SUMMARY:Gone to the Dogs
DESCRIPTION:
URL:https://www.egmontshowgrounds.org.nz/event/gone-to-the-dogs-406/
LOCATION:Presidents Expo Hall
END:VEVENT
BEGIN:VEVENT
DTSTART;VALUE=DATE:20241214
DTEND;VALUE=DATE:20241215
DTSTAMP:20260420T004214
CREATED:20240912T001542Z
LAST-MODIFIED:20241214T103444Z
UID:4098-1734134400-1734220799@www.egmontshowgrounds.org.nz
SUMMARY:RDA Room Booked
DESCRIPTION:
URL:https://www.egmontshowgrounds.org.nz/event/rda-room-booked-16/
END:VEVENT
BEGIN:VEVENT
DTSTART;VALUE=DATE:20241214
DTEND;VALUE=DATE:20241215
DTSTAMP:20260420T004214
CREATED:20240913T003150Z
LAST-MODIFIED:20241214T103445Z
UID:4100-1734134400-1734220799@www.egmontshowgrounds.org.nz
SUMMARY:TMHS - Horse Show
DESCRIPTION:Booking made 18.6.2024\nDoug Gelling 027 238 5024\nRDA Paddock\, RDA Room\n15x Stables D Block\nTSB x 1 day
URL:https://www.egmontshowgrounds.org.nz/event/tmhs-horse-show-2/
END:VEVENT
BEGIN:VEVENT
DTSTART;VALUE=DATE:20241215
DTEND;VALUE=DATE:20241216
DTSTAMP:20260420T004214
CREATED:20241112T064246Z
LAST-MODIFIED:20241215T104954Z
UID:4204-1734220800-1734307199@www.egmontshowgrounds.org.nz
SUMMARY:Nexan Fun Run
DESCRIPTION:Booked: Susi Hipp 12.11.2024\n027 610 0270\nBurnside Ave\nCross country course\nKitchen Theater
URL:https://www.egmontshowgrounds.org.nz/event/nexan-fun-run/
END:VEVENT
BEGIN:VEVENT
DTSTART;TZID=Pacific/Auckland:20241216T193000
DTEND;TZID=Pacific/Auckland:20241216T213000
DTSTAMP:20260420T004214
CREATED:20240403T081344Z
LAST-MODIFIED:20241215T104954Z
UID:3744-1734377400-1734384600@www.egmontshowgrounds.org.nz
SUMMARY:Executive Meeting
DESCRIPTION:
URL:https://www.egmontshowgrounds.org.nz/event/executive-meeting-155/
END:VEVENT
BEGIN:VEVENT
DTSTART;TZID=Pacific/Auckland:20241219T173000
DTEND;TZID=Pacific/Auckland:20241219T200000
DTSTAMP:20260420T004214
CREATED:20221220T210036Z
LAST-MODIFIED:20230330T213343Z
UID:2558-1734629400-1734638400@www.egmontshowgrounds.org.nz
SUMMARY:Gone to the Dogs
DESCRIPTION:
URL:https://www.egmontshowgrounds.org.nz/event/gone-to-the-dogs-407/
LOCATION:Presidents Expo Hall
END:VEVENT
BEGIN:VEVENT
DTSTART;VALUE=DATE:20241220
DTEND;VALUE=DATE:20241222
DTSTAMP:20260420T004214
CREATED:20241101T054347Z
LAST-MODIFIED:20241104T055531Z
UID:4192-1734652800-1734825599@www.egmontshowgrounds.org.nz
SUMMARY:Taranaki Mountain Miniature Horse Society
DESCRIPTION:Booking penciled in as per email from Tracey Blake 1.11.2024
URL:https://www.egmontshowgrounds.org.nz/event/taranaki-mountain-miniature-horse-society/
END:VEVENT
BEGIN:VEVENT
DTSTART;VALUE=DATE:20241222
DTEND;VALUE=DATE:20241224
DTSTAMP:20260420T004214
CREATED:20241204T094705Z
LAST-MODIFIED:20241223T112647Z
UID:4244-1734825600-1734998399@www.egmontshowgrounds.org.nz
SUMMARY:Vanessa Lesson
DESCRIPTION:Booking made 3.12.2024 for 22nd Dec & 12.12.2024 for 23rd Dec\n Made by: Sue Cole  \nTSB
URL:https://www.egmontshowgrounds.org.nz/event/vanessa-lesson-17/
END:VEVENT
BEGIN:VEVENT
DTSTART;TZID=Pacific/Auckland:20241223T193000
DTEND;TZID=Pacific/Auckland:20241223T203000
DTSTAMP:20260420T004214
CREATED:20221223T220908Z
LAST-MODIFIED:20230829T083404Z
UID:2565-1734982200-1734985800@www.egmontshowgrounds.org.nz
SUMMARY:Show Meeting
DESCRIPTION:
URL:https://www.egmontshowgrounds.org.nz/event/show-meeting-131/
END:VEVENT
BEGIN:VEVENT
DTSTART;TZID=Pacific/Auckland:20241226T173000
DTEND;TZID=Pacific/Auckland:20241226T200000
DTSTAMP:20260420T004214
CREATED:20221226T231731Z
LAST-MODIFIED:20230330T213358Z
UID:2569-1735234200-1735243200@www.egmontshowgrounds.org.nz
SUMMARY:Gone to the Dogs
DESCRIPTION:
URL:https://www.egmontshowgrounds.org.nz/event/gone-to-the-dogs-408/
LOCATION:Presidents Expo Hall
END:VEVENT
END:VCALENDAR