BEGIN:VCALENDAR
VERSION:2.0
PRODID:-//Egmont A &amp; P Association - ECPv6.15.20//NONSGML v1.0//EN
CALSCALE:GREGORIAN
METHOD:PUBLISH
X-ORIGINAL-URL:https://www.egmontshowgrounds.org.nz
X-WR-CALDESC:Events for Egmont A &amp; P Association
REFRESH-INTERVAL;VALUE=DURATION:PT1H
X-Robots-Tag:noindex
X-PUBLISHED-TTL:PT1H
BEGIN:VTIMEZONE
TZID:Pacific/Auckland
BEGIN:STANDARD
TZOFFSETFROM:+1300
TZOFFSETTO:+1200
TZNAME:NZST
DTSTART:20250405T140000
END:STANDARD
BEGIN:DAYLIGHT
TZOFFSETFROM:+1200
TZOFFSETTO:+1300
TZNAME:NZDT
DTSTART:20250927T140000
END:DAYLIGHT
BEGIN:STANDARD
TZOFFSETFROM:+1300
TZOFFSETTO:+1200
TZNAME:NZST
DTSTART:20260404T140000
END:STANDARD
BEGIN:DAYLIGHT
TZOFFSETFROM:+1200
TZOFFSETTO:+1300
TZNAME:NZDT
DTSTART:20260926T140000
END:DAYLIGHT
BEGIN:STANDARD
TZOFFSETFROM:+1300
TZOFFSETTO:+1200
TZNAME:NZST
DTSTART:20270403T140000
END:STANDARD
BEGIN:DAYLIGHT
TZOFFSETFROM:+1200
TZOFFSETTO:+1300
TZNAME:NZDT
DTSTART:20270925T140000
END:DAYLIGHT
END:VTIMEZONE
BEGIN:VEVENT
DTSTART;VALUE=DATE:20260430
DTEND;VALUE=DATE:20260502
DTSTAMP:20260420T035801
CREATED:20260313T112539Z
LAST-MODIFIED:20260419T035444Z
UID:5235-1777507200-1777679999@www.egmontshowgrounds.org.nz
SUMMARY:TPOA Students - Hort Class
DESCRIPTION:
URL:https://www.egmontshowgrounds.org.nz/event/tpoa-students-hort-class-2/
END:VEVENT
BEGIN:VEVENT
DTSTART;TZID=Pacific/Auckland:20260502T131500
DTEND;TZID=Pacific/Auckland:20260502T151500
DTSTAMP:20260420T035801
CREATED:20260414T035513Z
LAST-MODIFIED:20260419T035444Z
UID:5299-1777727700-1777734900@www.egmontshowgrounds.org.nz
SUMMARY:Hawera Harriers - Pack Run \, Patrons Room
DESCRIPTION:
URL:https://www.egmontshowgrounds.org.nz/event/hawera-harriers-pack-run-patrons-room-2/
END:VEVENT
BEGIN:VEVENT
DTSTART;VALUE=DATE:20260506
DTEND;VALUE=DATE:20260507
DTSTAMP:20260420T035801
CREATED:20260312T112518Z
LAST-MODIFIED:20260419T035444Z
UID:5215-1778025600-1778111999@www.egmontshowgrounds.org.nz
SUMMARY:Hawera RDA - RDA Room\, RDA Paddock & Stables
DESCRIPTION:
URL:https://www.egmontshowgrounds.org.nz/event/hawera-rda-rda-room-rda-paddock-stables-4/
END:VEVENT
BEGIN:VEVENT
DTSTART;VALUE=DATE:20260507
DTEND;VALUE=DATE:20260509
DTSTAMP:20260420T035801
CREATED:20260313T112539Z
LAST-MODIFIED:20260419T035444Z
UID:5236-1778112000-1778284799@www.egmontshowgrounds.org.nz
SUMMARY:TPOA Students - Hort Class
DESCRIPTION:
URL:https://www.egmontshowgrounds.org.nz/event/tpoa-students-hort-class-3/
END:VEVENT
BEGIN:VEVENT
DTSTART;VALUE=DATE:20260509
DTEND;VALUE=DATE:20260511
DTSTAMP:20260420T035801
CREATED:20260209T092527Z
LAST-MODIFIED:20260419T035457Z
UID:5155-1778284800-1778457599@www.egmontshowgrounds.org.nz
SUMMARY:Dressage Taranaki Winter Series #1 - TSB Indoor Arena\, Sand Arena\, RDA Room & Stables
DESCRIPTION:Confirmed 10.2.2026  \nAs per email from Michele Nelly 5.2.2026 \nHi Angela\, \nCan you please pencil in the following dates for us: \n  \n9/10 May \n13/14 June \n4/5 July \n26/27 September \n  \nWe will require the Indoor\, the outdoor sand\, the RDA roomand some covered yards please.  I will try to get the forms to you nextweek. \n  \nThanks \nMichele \n 
URL:https://www.egmontshowgrounds.org.nz/event/tbc-dressage-taranaki-tsb-indoor-arena-sand-arena-rda-room-stables/
END:VEVENT
BEGIN:VEVENT
DTSTART;VALUE=DATE:20260509
DTEND;VALUE=DATE:20260511
DTSTAMP:20260420T035801
CREATED:20260211T092814Z
LAST-MODIFIED:20260419T035445Z
UID:5161-1778284800-1778457599@www.egmontshowgrounds.org.nz
SUMMARY:RDA Room Booked
DESCRIPTION:
URL:https://www.egmontshowgrounds.org.nz/event/rda-room-booked-27/
END:VEVENT
BEGIN:VEVENT
DTSTART;VALUE=DATE:20260513
DTEND;VALUE=DATE:20260514
DTSTAMP:20260420T035801
CREATED:20260312T112518Z
LAST-MODIFIED:20260419T035457Z
UID:5216-1778630400-1778716799@www.egmontshowgrounds.org.nz
SUMMARY:Hawera RDA - RDA Room\, RDA Paddock & Stables
DESCRIPTION:
URL:https://www.egmontshowgrounds.org.nz/event/hawera-rda-rda-room-rda-paddock-stables-5/
END:VEVENT
BEGIN:VEVENT
DTSTART;VALUE=DATE:20260514
DTEND;VALUE=DATE:20260516
DTSTAMP:20260420T035801
CREATED:20260313T112539Z
LAST-MODIFIED:20260419T035457Z
UID:5237-1778716800-1778889599@www.egmontshowgrounds.org.nz
SUMMARY:TPOA Students - Hort Class
DESCRIPTION:
URL:https://www.egmontshowgrounds.org.nz/event/tpoa-students-hort-class-4/
END:VEVENT
BEGIN:VEVENT
DTSTART;TZID=Pacific/Auckland:20260516T080000
DTEND;TZID=Pacific/Auckland:20260517T170000
DTSTAMP:20260420T035801
CREATED:20260402T025634Z
LAST-MODIFIED:20260419T035457Z
UID:5283-1778918400-1779037200@www.egmontshowgrounds.org.nz
SUMMARY:TEJ Pole & Grid Clinic - TSB Indoor Arena
DESCRIPTION:Booking received via phone call from Maree Collins – Same information as the booking for 27th April.  \nH & S Maree CollinsInstructor has First Aid kit \n\n\n\n\nVenue Hirer (Organisation) \n\n\nTaranaki Equestrian Jumping \n\n\n\n\nContact Person \n\n\nMaree Collins \n\n\n\n\nPhone \n\n\n0273049076 \n\n\n\n\nEmail \n\n\ntaranakiequestrianjumping@gmail.com \n\n\n\n\nUser ID \n\n\ntaranakiequestrianjumping \n\n\n\n\nFrom Date \n\n\nApril 27\, 2026 – 16th May \n\n\n\n\nFrom Time \n\n\n8:00 AM \n\n\n\n\nTo Date \n\n\nApril 27\, 2026 / 17th May \n\n\n\n\nTo Time \n\n\n5:00 PM \n\n\n\n\nName of Event (or reason for hiring) \n\n\nPole and Grid Clinic \n\n\n\n\nName \n\n\nMaree Collins \n\n\n\n\nMob \n\n\n0273049076 \n\n\n\n\n\nI have read and agree to the Egmont  Showgrounds Terms and Conditions of Use. \n\n\n\n\n\nI confirm that I / our group or organisation  has an active and compliant Health & Safety policy / programme. \n\n\n\n\nSand Arena – Estimate \n\n\n1 day \n\n\n\n\nIP Address \n\n\n121.74.172.201 \n\n\n\n\nUser-Agent (Browser/OS) \n\n\nGoogle Chrome 146.0.0.0 / Windows \n\n\n\n\nReferrer \n\n\nhttps://www.egmontshowgrounds.org.nz/book-online/ \n\n\n\n\n 
URL:https://www.egmontshowgrounds.org.nz/event/pole-grid-clinic-tsb-indoor-arena-2/
END:VEVENT
BEGIN:VEVENT
DTSTART;TZID=Pacific/Auckland:20260516T131500
DTEND;TZID=Pacific/Auckland:20260516T151500
DTSTAMP:20260420T035801
CREATED:20260414T035526Z
LAST-MODIFIED:20260419T035457Z
UID:5300-1778937300-1778944500@www.egmontshowgrounds.org.nz
SUMMARY:Hawera Harriers - Pioneer Cup Race 1 \, Patrons Room\, XC / Road
DESCRIPTION:
URL:https://www.egmontshowgrounds.org.nz/event/hawera-harriers-pioneer-cup-race-1-patrons-room-xc-road/
END:VEVENT
BEGIN:VEVENT
DTSTART;VALUE=DATE:20260518
DTEND;VALUE=DATE:20260519
DTSTAMP:20260420T035801
CREATED:20260122T074124Z
LAST-MODIFIED:20260419T035457Z
UID:5121-1779062400-1779148799@www.egmontshowgrounds.org.nz
SUMMARY:Executive Committee Meeting
DESCRIPTION:
URL:https://www.egmontshowgrounds.org.nz/event/executive-committee-meeting-2/
END:VEVENT
BEGIN:VEVENT
DTSTART;VALUE=DATE:20260520
DTEND;VALUE=DATE:20260521
DTSTAMP:20260420T035801
CREATED:20260312T112518Z
LAST-MODIFIED:20260419T035458Z
UID:5217-1779235200-1779321599@www.egmontshowgrounds.org.nz
SUMMARY:Hawera RDA - RDA Room\, RDA Paddock & Stables
DESCRIPTION:
URL:https://www.egmontshowgrounds.org.nz/event/hawera-rda-rda-room-rda-paddock-stables-6/
END:VEVENT
BEGIN:VEVENT
DTSTART;VALUE=DATE:20260521
DTEND;VALUE=DATE:20260523
DTSTAMP:20260420T035801
CREATED:20260313T112553Z
LAST-MODIFIED:20260419T035457Z
UID:5238-1779321600-1779494399@www.egmontshowgrounds.org.nz
SUMMARY:TPOA Students - Hort Class
DESCRIPTION:
URL:https://www.egmontshowgrounds.org.nz/event/tpoa-students-hort-class-5/
END:VEVENT
BEGIN:VEVENT
DTSTART;TZID=Pacific/Auckland:20260523T131500
DTEND;TZID=Pacific/Auckland:20260523T151500
DTSTAMP:20260420T035801
CREATED:20260414T035539Z
LAST-MODIFIED:20260419T035458Z
UID:5301-1779542100-1779549300@www.egmontshowgrounds.org.nz
SUMMARY:Hawera Harriers - Pioneer Cup Race 2 \, Patrons Room\, Cross Country Course
DESCRIPTION:
URL:https://www.egmontshowgrounds.org.nz/event/hawera-harriers-pioneer-cup-race-2-patrons-room-cross-country-course/
END:VEVENT
BEGIN:VEVENT
DTSTART;TZID=Pacific/Auckland:20260524T083000
DTEND;TZID=Pacific/Auckland:20260524T133000
DTSTAMP:20260420T035801
CREATED:20260312T112518Z
LAST-MODIFIED:20260419T035458Z
UID:5218-1779611400-1779629400@www.egmontshowgrounds.org.nz
SUMMARY:Coastal Adult Riding Club Winter Dressage One - Sand Arena\, TSB\, Stables
DESCRIPTION:Booking made 11.3.2026 \nVenue Hirer (Organisation) \n\n\nCoastal Adult Riding Club \n\n\n\n\nContact Person \n\n\nEmily Perrin \n\n\n\n\nPhone \n\n\n0274200486 \n\n\n\n\nEmail \n\n\nzemzily@gmail.com \n\n\n\n\nUser ID \n\n\nzemzily \n\n\n\n\nFrom Date \n\n\nMay 24\, 2026 \n\n\n\n\nFrom Time \n\n\n8:30 AM \n\n\n\n\nTo Date \n\n\nMay 24\, 2026 \n\n\n\n\nTo Time \n\n\n1:30 PM \n\n\n\n\nName of Event (or reason for hiring) \n\n\nCoastal Adult Riding Club Winter Dressage One \n\n\n\n\nName \n\n\nEmily Perrin \n\n\n\n\nMob \n\n\n0274200486 \n\n\n\n\n\nI have read and agree to the Egmont  Showgrounds Terms and Conditions of Use. \n\n\n\n\n\nI confirm that I / our group or organisation  has an active and compliant Health & Safety policy / programme. \n\n\n\n\nSand Arena – Estimate \n\n\n5 hours \n\n\n\n\nTSB Centre – Estimate \n\n\n6 hours \n\n\n\n\nStables / Covered Yards – Estimate \n\n\n15 \n\n\n\n\nRubbish – Estimate \n\n\n1 \n\n\n\n\nIP Address \n\n\n122.63.114.150 \n\n\n\n\nUser-Agent (Browser/OS) \n\n\nGoogle Chrome 145.0.0.0 / Windows \n\n\n\n\nReferrer \n\n\nhttps://www.egmontshowgrounds.org.nz/book-online/
URL:https://www.egmontshowgrounds.org.nz/event/coastal-adult-riding-club-winter-dressage-one-sand-arena-tsb-stables/
END:VEVENT
BEGIN:VEVENT
DTSTART;VALUE=DATE:20260527
DTEND;VALUE=DATE:20260528
DTSTAMP:20260420T035801
CREATED:20260312T112532Z
LAST-MODIFIED:20260419T035512Z
UID:5219-1779840000-1779926399@www.egmontshowgrounds.org.nz
SUMMARY:Hawera RDA - RDA Room\, RDA Paddock & Stables
DESCRIPTION:
URL:https://www.egmontshowgrounds.org.nz/event/hawera-rda-rda-room-rda-paddock-stables-7/
END:VEVENT
BEGIN:VEVENT
DTSTART;VALUE=DATE:20260528
DTEND;VALUE=DATE:20260529
DTSTAMP:20260420T035801
CREATED:20251026T111046Z
LAST-MODIFIED:20260419T035512Z
UID:4968-1779926400-1780012799@www.egmontshowgrounds.org.nz
SUMMARY:TSSSA Cross Country - Patrons Room\, Expo Toilets\, Cross Country course
DESCRIPTION:Email 24.3.2026 Amber Craig\, or Karla Ralph will be the designated firstaid person on the day.  \n  \nWe will also have a first aid kit on site (as we do for allof our events).  \n \n  \n \nEmail 29.10.2025  \nHi Angela\,  \n  \nAs per our conversation\, can you please shift the TSSSACross Country event to Thursday 28th May? This is based on working around otherevents/venue availability.  \n  \nKind regards\, \nAmber \nKara Ralph – Penciled in until calendar is confirmedQuote QU-0167 sent 21.7.2025 \nEmail from Amber Craig 24.9.2025  \nKia ora Angela\,   \n  \nI hope you are well!   \n  \nCan we please book the TSSSA CrossCountry event in for the following date/time: \n1. TSSSA Cross Country  \n·  Date: Tuesday 26thMay\, 2026  \n·  Main timings: TBC (Jasonand crew set the course)\, 9.30am (TSSSA arrive)\, 10am (schools check in)\, 1.30-2pm (approxfinish time). \n  \nI am awaiting confirmation fromAthletics Taranaki/Hāwera Harriers that this date works for them butwanted to check the date was available in the interim.  \n  \nPlease let me know if this dateand time work. If you have any questions or need further details\, please let meknow.  \nThis date may shift slightly around other eventsto make them all fit in the calendar\, I will advise of any changes ifapplicable.  \n  \n\n\n\n\nCross Country  \n-Ground hire \n-Patrons Room \n-Toilet block \n-Rubbish fee \n  \n\n\n9-2pm
URL:https://www.egmontshowgrounds.org.nz/event/tsssa-cross-country-patrons-room-expo-toilets-cross-country-course/
END:VEVENT
BEGIN:VEVENT
DTSTART;VALUE=DATE:20260528
DTEND;VALUE=DATE:20260530
DTSTAMP:20260420T035801
CREATED:20260313T112554Z
LAST-MODIFIED:20260419T035512Z
UID:5239-1779926400-1780099199@www.egmontshowgrounds.org.nz
SUMMARY:TPOA Students - Hort Class
DESCRIPTION:
URL:https://www.egmontshowgrounds.org.nz/event/tpoa-students-hort-class-6/
END:VEVENT
BEGIN:VEVENT
DTSTART;TZID=Pacific/Auckland:20260530T131500
DTEND;TZID=Pacific/Auckland:20260530T201500
DTSTAMP:20260420T035801
CREATED:20260414T035540Z
LAST-MODIFIED:20260419T035512Z
UID:5302-1780146900-1780172100@www.egmontshowgrounds.org.nz
SUMMARY:Hawera Harriers - Hughes Memorial Cross Country \, Expo Hall & Kitchen\, Cross Country Course
DESCRIPTION:
URL:https://www.egmontshowgrounds.org.nz/event/hawera-harriers-hughes-memorial-cross-country-expo-hall-kitchen-cross-country-course/
END:VEVENT
BEGIN:VEVENT
DTSTART;TZID=Pacific/Auckland:20260531T090000
DTEND;TZID=Pacific/Auckland:20260531T110000
DTSTAMP:20260420T035801
CREATED:20260414T035540Z
LAST-MODIFIED:20260419T035512Z
UID:5303-1780218000-1780225200@www.egmontshowgrounds.org.nz
SUMMARY:Hawera Harriers -Group run / walk \, Patrons Room\, Cross Country Course
DESCRIPTION:
URL:https://www.egmontshowgrounds.org.nz/event/hawera-harriers-group-run-walk-patrons-room-cross-country-course/
END:VEVENT
END:VCALENDAR