BEGIN:VCALENDAR
VERSION:2.0
PRODID:-//Egmont A &amp; P Association - ECPv6.15.20//NONSGML v1.0//EN
CALSCALE:GREGORIAN
METHOD:PUBLISH
X-WR-CALNAME:Egmont A &amp; P Association
X-ORIGINAL-URL:https://www.egmontshowgrounds.org.nz
X-WR-CALDESC:Events for Egmont A &amp; P Association
REFRESH-INTERVAL;VALUE=DURATION:PT1H
X-Robots-Tag:noindex
X-PUBLISHED-TTL:PT1H
BEGIN:VTIMEZONE
TZID:Pacific/Auckland
BEGIN:STANDARD
TZOFFSETFROM:+1300
TZOFFSETTO:+1200
TZNAME:NZST
DTSTART:20250405T140000
END:STANDARD
BEGIN:DAYLIGHT
TZOFFSETFROM:+1200
TZOFFSETTO:+1300
TZNAME:NZDT
DTSTART:20250927T140000
END:DAYLIGHT
BEGIN:STANDARD
TZOFFSETFROM:+1300
TZOFFSETTO:+1200
TZNAME:NZST
DTSTART:20260404T140000
END:STANDARD
BEGIN:DAYLIGHT
TZOFFSETFROM:+1200
TZOFFSETTO:+1300
TZNAME:NZDT
DTSTART:20260926T140000
END:DAYLIGHT
BEGIN:STANDARD
TZOFFSETFROM:+1300
TZOFFSETTO:+1200
TZNAME:NZST
DTSTART:20270403T140000
END:STANDARD
BEGIN:DAYLIGHT
TZOFFSETFROM:+1200
TZOFFSETTO:+1300
TZNAME:NZDT
DTSTART:20270925T140000
END:DAYLIGHT
END:VTIMEZONE
BEGIN:VEVENT
DTSTART;VALUE=DATE:20260701
DTEND;VALUE=DATE:20260702
DTSTAMP:20260420T021437
CREATED:20260312T112547Z
LAST-MODIFIED:20260419T035540Z
UID:5226-1782864000-1782950399@www.egmontshowgrounds.org.nz
SUMMARY:Hawera RDA - RDA Room\, RDA Paddock & Stables
DESCRIPTION:
URL:https://www.egmontshowgrounds.org.nz/event/hawera-rda-rda-room-rda-paddock-stables-12/
END:VEVENT
BEGIN:VEVENT
DTSTART;VALUE=DATE:20260702
DTEND;VALUE=DATE:20260704
DTSTAMP:20260420T021437
CREATED:20260313T112621Z
LAST-MODIFIED:20260419T035540Z
UID:5244-1782950400-1783123199@www.egmontshowgrounds.org.nz
SUMMARY:TPOA Students - Hort Class
DESCRIPTION:
URL:https://www.egmontshowgrounds.org.nz/event/tpoa-students-hort-class-11/
END:VEVENT
BEGIN:VEVENT
DTSTART;VALUE=DATE:20260704
DTEND;VALUE=DATE:20260706
DTSTAMP:20260420T021437
CREATED:20260209T092527Z
LAST-MODIFIED:20260419T035540Z
UID:5157-1783123200-1783295999@www.egmontshowgrounds.org.nz
SUMMARY:Dressage Taranaki Winter Series #3- TSB Indoor Arena\, Sand Arena\, RDA Room & Stables
DESCRIPTION:Confirmed 10.2.2026  \nAs per email from Michele Nelly 5.2.2026 \nHi Angela\, \nCan you please pencil in the following dates for us: \n  \n9/10 May \n13/14 June \n4/5 July \n26/27 September \n  \nWe will require the Indoor\, the outdoor sand\, the RDA roomand some covered yards please.  I will try to get the forms to you nextweek. \n  \nThanks \nMichele \n 
URL:https://www.egmontshowgrounds.org.nz/event/tbc-dressage-taranaki-tsb-indoor-arena-sand-arena-rda-room-stables-3/
END:VEVENT
BEGIN:VEVENT
DTSTART;VALUE=DATE:20260704
DTEND;VALUE=DATE:20260706
DTSTAMP:20260420T021437
CREATED:20260211T092828Z
LAST-MODIFIED:20260419T035540Z
UID:5163-1783123200-1783295999@www.egmontshowgrounds.org.nz
SUMMARY:RDA Room Booked
DESCRIPTION:
URL:https://www.egmontshowgrounds.org.nz/event/rda-room-booked-29/
END:VEVENT
BEGIN:VEVENT
DTSTART;VALUE=DATE:20260706
DTEND;VALUE=DATE:20260711
DTSTAMP:20260420T021437
CREATED:20260318T114056Z
LAST-MODIFIED:20260419T035540Z
UID:5258-1783296000-1783727999@www.egmontshowgrounds.org.nz
SUMMARY:HOPS Holiday - Expo Hall
DESCRIPTION:
URL:https://www.egmontshowgrounds.org.nz/event/hops-holiday-expo-hall-3/
END:VEVENT
BEGIN:VEVENT
DTSTART;VALUE=DATE:20260709
DTEND;VALUE=DATE:20260711
DTSTAMP:20260420T021437
CREATED:20260313T112622Z
LAST-MODIFIED:20260317T114041Z
UID:5245-1783555200-1783727999@www.egmontshowgrounds.org.nz
SUMMARY:TPOA Students - Hort Class
DESCRIPTION:
URL:https://www.egmontshowgrounds.org.nz/event/tpoa-students-hort-class-12/
END:VEVENT
BEGIN:VEVENT
DTSTART;VALUE=DATE:20260710
DTEND;VALUE=DATE:20260713
DTSTAMP:20260420T021437
CREATED:20251103T114210Z
LAST-MODIFIED:20260419T035540Z
UID:4985-1783641600-1783900799@www.egmontshowgrounds.org.nz
SUMMARY:TEJ Winter Show Hunter Clinic - Sand Arena\, TSB Indoor Arena\, Camping\, Stables
DESCRIPTION:Booking as TBC by Geraldine Woods 3.6.2025 – verbally spoke to Angela 12.11pm Booking form to come as soon as possible – Laura  / Geraldine Woods \nBooking form received 3.7.2025 \n\n\n\n\nVenue Hirer (Organisation) \n\n\nTEJ \n\n\n\n\nContact Person \n\n\nMaree Collins \n\n\n\n\nPhone \n\n\n0273049076 \n\n\n\n\nEmail \n\n\ntaranakiequestrianjumping@gmail.com \n\n\n\n\nUser ID \n\n\ntaranakiequestrianjumping \n\n\n\n\nFrom Date \n\n\nJuly 10\, 2026 \n\n\n\n\nFrom Time \n\n\n2:00 PM \n\n\n\n\nTo Date \n\n\nJuly 12\, 2026 \n\n\n\n\nTo Time \n\n\n5:00 PM \n\n\n\n\nName of Event (or reason for hiring) \n\n\nTEJ SH Clinc \n\n\n\n\nName \n\n\nGerardine Wood \n\n\n\n\nMob \n\n\n0211535222 \n\n\n\n\n\nI have read and agree to the Egmont  Showgrounds Terms and Conditions of Use. \n\n\n\n\n\nI confirm that I / our group or organisation  has an active and compliant Health & Safety policy / programme. \n\n\n\n\nSand Arena – Estimate \n\n\n2 days \n\n\n\n\nTSB Centre – Estimate \n\n\n2 days & 3 hours \n\n\n\n\nIP Address \n\n\n210.246.44.41 \n\n\n\n\nUser-Agent (Browser/OS) \n\n\nGoogle Chrome 137.0.0.0 / Windows \n\n\n\n\nReferrer \n\n\nhttps://www.egmontshowgrounds.org.nz/book-online/ \n\n\n\n\n 
URL:https://www.egmontshowgrounds.org.nz/event/tej-winter-show-hunter-clinic-sand-arena-tsb-indoor-arena-camping-stables/
END:VEVENT
BEGIN:VEVENT
DTSTART;VALUE=DATE:20260713
DTEND;VALUE=DATE:20260714
DTSTAMP:20260420T021437
CREATED:20260216T094058Z
LAST-MODIFIED:20260419T035540Z
UID:5172-1783900800-1783987199@www.egmontshowgrounds.org.nz
SUMMARY:NZ Farmers Livestock Ltd - D Block Stables
DESCRIPTION:Booking made 16.2.2026 \n\n\n\n\nVenue Hirer (Organisation) \n\n\nNZ Farmers Livestock Ltd \n\n\n\n\nContact Person \n\n\nJoanne Richards \n\n\n\n\nPhone \n\n\n0274403323 \n\n\n\n\nEmail \n\n\njoanne.richards@nzfll.co.nz \n\n\n\n\nUser ID \n\n\njoanne.richards
URL:https://www.egmontshowgrounds.org.nz/event/nz-farmers-livestock-ltd-d-block-stables/
END:VEVENT
BEGIN:VEVENT
DTSTART;VALUE=DATE:20260713
DTEND;VALUE=DATE:20260714
DTSTAMP:20260420T021437
CREATED:20260312T112548Z
LAST-MODIFIED:20260419T035540Z
UID:5227-1783900800-1783987199@www.egmontshowgrounds.org.nz
SUMMARY:Executive Committee Meeting
DESCRIPTION:
URL:https://www.egmontshowgrounds.org.nz/event/executive-committee-meeting-4/
END:VEVENT
BEGIN:VEVENT
DTSTART;VALUE=DATE:20260713
DTEND;VALUE=DATE:20260718
DTSTAMP:20260420T021437
CREATED:20260325T022746Z
LAST-MODIFIED:20260419T035540Z
UID:5270-1783900800-1784332799@www.egmontshowgrounds.org.nz
SUMMARY:HOPS Holiday - Expo Hall
DESCRIPTION:
URL:https://www.egmontshowgrounds.org.nz/event/hops-holiday-expo-hall-4/
END:VEVENT
BEGIN:VEVENT
DTSTART;VALUE=DATE:20260716
DTEND;VALUE=DATE:20260718
DTSTAMP:20260420T021437
CREATED:20260313T112622Z
LAST-MODIFIED:20260317T114041Z
UID:5246-1784160000-1784332799@www.egmontshowgrounds.org.nz
SUMMARY:TPOA Students - Hort Class
DESCRIPTION:
URL:https://www.egmontshowgrounds.org.nz/event/tpoa-students-hort-class-13/
END:VEVENT
BEGIN:VEVENT
DTSTART;VALUE=DATE:20260720
DTEND;VALUE=DATE:20260721
DTSTAMP:20260420T021437
CREATED:20260216T094058Z
LAST-MODIFIED:20260413T035632Z
UID:5173-1784505600-1784591999@www.egmontshowgrounds.org.nz
SUMMARY:NZ Farmers Livestock Ltd - D Block Stables
DESCRIPTION:Booking made 16.2.2026 \n\n\n\n\nVenue Hirer (Organisation) \n\n\nNZ Farmers Livestock Ltd \n\n\n\n\nContact Person \n\n\nJoanne Richards \n\n\n\n\nPhone \n\n\n0274403323 \n\n\n\n\nEmail \n\n\njoanne.richards@nzfll.co.nz \n\n\n\n\nUser ID \n\n\njoanne.richards
URL:https://www.egmontshowgrounds.org.nz/event/nz-farmers-livestock-ltd-d-block-stables-2/
END:VEVENT
BEGIN:VEVENT
DTSTART;VALUE=DATE:20260722
DTEND;VALUE=DATE:20260723
DTSTAMP:20260420T021437
CREATED:20260312T112548Z
LAST-MODIFIED:20260413T035632Z
UID:5228-1784678400-1784764799@www.egmontshowgrounds.org.nz
SUMMARY:Hawera RDA - RDA Room\, RDA Paddock & Stables
DESCRIPTION:
URL:https://www.egmontshowgrounds.org.nz/event/hawera-rda-rda-room-rda-paddock-stables-13/
END:VEVENT
BEGIN:VEVENT
DTSTART;VALUE=DATE:20260723
DTEND;VALUE=DATE:20260725
DTSTAMP:20260420T021437
CREATED:20260411T032716Z
LAST-MODIFIED:20260411T032716Z
UID:5293-1784764800-1784937599@www.egmontshowgrounds.org.nz
SUMMARY:TPOA Students - Hort Class
DESCRIPTION:
URL:https://www.egmontshowgrounds.org.nz/event/tpoa-students-hort-class-14/
END:VEVENT
BEGIN:VEVENT
DTSTART;TZID=Pacific/Auckland:20260726T100000
DTEND;TZID=Pacific/Auckland:20260726T140000
DTSTAMP:20260420T021437
CREATED:20251103T114210Z
LAST-MODIFIED:20260312T112601Z
UID:4986-1785060000-1785074400@www.egmontshowgrounds.org.nz
SUMMARY:Coastal Adult Riding - Club event - TSB Indoor Arena\, Stables
DESCRIPTION:Booking made 25.8.2025 \n\n\n\n\nVenue Hirer (Organisation) \n\n\nCoastal Adult Riding \n\n\n\n\nContact Person \n\n\nMaree Collins \n\n\n\n\nPhone \n\n\n0273049076 \n\n\n\n\nEmail \n\n\nmareecollins1@gmail.com \n\n\n\n\nUser ID \n\n\nmareecollins1 \n\n\n\n\nFrom Date \n\n\nJuly 26\, 2026 \n\n\n\n\nFrom Time \n\n\n10:00 AM \n\n\n\n\nTo Date \n\n\nJuly 26\, 2026 \n\n\n\n\nTo Time \n\n\n2:00 PM \n\n\n\n\nName of Event (or reason for hiring) \n\n\nClub Event \n\n\n\n\nName \n\n\nMaree Collins \n\n\n\n\nMob \n\n\n0273049076 \n\n\n\n\n\nI have read and agree to the Egmont  Showgrounds Terms and Conditions of Use. \n\n\n\n\n\nI confirm that I / our group or organisation  has an active and compliant Health & Safety policy / programme. \n\n\n\n\nTSB Centre – Estimate \n\n\n4 hours \n\n\n\n\nIP Address \n\n\n121.74.173.163 \n\n\n\n\nUser-Agent (Browser/OS) \n\n\nGoogle Chrome 139.0.0.0 / Windows \n\n\n\n\nReferrer \n\n\nhttps://www.egmontshowgrounds.org.nz/book-online/ \n\n\n\n\n 
URL:https://www.egmontshowgrounds.org.nz/event/coastal-adult-riding-club-event-tsb-indoor-arena-stables/
END:VEVENT
BEGIN:VEVENT
DTSTART;VALUE=DATE:20260727
DTEND;VALUE=DATE:20260728
DTSTAMP:20260420T021437
CREATED:20260216T094058Z
LAST-MODIFIED:20260312T112601Z
UID:5174-1785110400-1785196799@www.egmontshowgrounds.org.nz
SUMMARY:NZ Farmers Livestock Ltd - D Block Stables
DESCRIPTION:Booking made 16.2.2026 \n\n\n\n\nVenue Hirer (Organisation) \n\n\nNZ Farmers Livestock Ltd \n\n\n\n\nContact Person \n\n\nJoanne Richards \n\n\n\n\nPhone \n\n\n0274403323 \n\n\n\n\nEmail \n\n\njoanne.richards@nzfll.co.nz \n\n\n\n\nUser ID \n\n\njoanne.richards
URL:https://www.egmontshowgrounds.org.nz/event/nz-farmers-livestock-ltd-d-block-stables-3/
END:VEVENT
BEGIN:VEVENT
DTSTART;VALUE=DATE:20260729
DTEND;VALUE=DATE:20260730
DTSTAMP:20260420T021437
CREATED:20260312T112601Z
LAST-MODIFIED:20260312T112601Z
UID:5229-1785283200-1785369599@www.egmontshowgrounds.org.nz
SUMMARY:Hawera RDA - RDA Room\, RDA Paddock & Stables
DESCRIPTION:
URL:https://www.egmontshowgrounds.org.nz/event/hawera-rda-rda-room-rda-paddock-stables-14/
END:VEVENT
BEGIN:VEVENT
DTSTART;VALUE=DATE:20260731
DTEND;VALUE=DATE:20260801
DTSTAMP:20260420T021437
CREATED:20251106T115721Z
LAST-MODIFIED:20260312T112602Z
UID:4991-1785456000-1785542399@www.egmontshowgrounds.org.nz
SUMMARY:Charaties Commission return Due
DESCRIPTION:
URL:https://www.egmontshowgrounds.org.nz/event/charaties-commission-return-due-11/
END:VEVENT
END:VCALENDAR