BEGIN:VCALENDAR
VERSION:2.0
PRODID:-//Egmont A &amp; P Association - ECPv6.15.20//NONSGML v1.0//EN
CALSCALE:GREGORIAN
METHOD:PUBLISH
X-ORIGINAL-URL:https://www.egmontshowgrounds.org.nz
X-WR-CALDESC:Events for Egmont A &amp; P Association
REFRESH-INTERVAL;VALUE=DURATION:PT1H
X-Robots-Tag:noindex
X-PUBLISHED-TTL:PT1H
BEGIN:VTIMEZONE
TZID:Pacific/Auckland
BEGIN:STANDARD
TZOFFSETFROM:+1300
TZOFFSETTO:+1200
TZNAME:NZST
DTSTART:20250405T140000
END:STANDARD
BEGIN:DAYLIGHT
TZOFFSETFROM:+1200
TZOFFSETTO:+1300
TZNAME:NZDT
DTSTART:20250927T140000
END:DAYLIGHT
BEGIN:STANDARD
TZOFFSETFROM:+1300
TZOFFSETTO:+1200
TZNAME:NZST
DTSTART:20260404T140000
END:STANDARD
BEGIN:DAYLIGHT
TZOFFSETFROM:+1200
TZOFFSETTO:+1300
TZNAME:NZDT
DTSTART:20260926T140000
END:DAYLIGHT
BEGIN:STANDARD
TZOFFSETFROM:+1300
TZOFFSETTO:+1200
TZNAME:NZST
DTSTART:20270403T140000
END:STANDARD
BEGIN:DAYLIGHT
TZOFFSETFROM:+1200
TZOFFSETTO:+1300
TZNAME:NZDT
DTSTART:20270925T140000
END:DAYLIGHT
END:VTIMEZONE
BEGIN:VEVENT
DTSTART;VALUE=DATE:20260803
DTEND;VALUE=DATE:20260804
DTSTAMP:20260423T230625
CREATED:20260216T094059Z
LAST-MODIFIED:20260312T112602Z
UID:5175-1785715200-1785801599@www.egmontshowgrounds.org.nz
SUMMARY:NZ Farmers Livestock Ltd - D Block Stables
DESCRIPTION:Booking made 16.2.2026 \n\n\n\n\nVenue Hirer (Organisation) \n\n\nNZ Farmers Livestock Ltd \n\n\n\n\nContact Person \n\n\nJoanne Richards \n\n\n\n\nPhone \n\n\n0274403323 \n\n\n\n\nEmail \n\n\njoanne.richards@nzfll.co.nz \n\n\n\n\nUser ID \n\n\njoanne.richards
URL:https://www.egmontshowgrounds.org.nz/event/nz-farmers-livestock-ltd-d-block-stables-4/
END:VEVENT
BEGIN:VEVENT
DTSTART;VALUE=DATE:20260805
DTEND;VALUE=DATE:20260806
DTSTAMP:20260423T230625
CREATED:20260312T112602Z
LAST-MODIFIED:20260312T112602Z
UID:5230-1785888000-1785974399@www.egmontshowgrounds.org.nz
SUMMARY:Hawera RDA - RDA Room\, RDA Paddock & Stables
DESCRIPTION:
URL:https://www.egmontshowgrounds.org.nz/event/hawera-rda-rda-room-rda-paddock-stables-15/
END:VEVENT
BEGIN:VEVENT
DTSTART;TZID=Pacific/Auckland:20260809T100000
DTEND;TZID=Pacific/Auckland:20260809T140000
DTSTAMP:20260423T230625
CREATED:20251106T115721Z
LAST-MODIFIED:20260312T112602Z
UID:4992-1786269600-1786284000@www.egmontshowgrounds.org.nz
SUMMARY:Coastal Adult Riding - Club Event - TSB Indoor Arena\, Stables
DESCRIPTION:Venue Hirer (Organisation) \n\n\nCoastal Adult Riding \n\n\n\n\nContact Person \n\n\nMaree Collins \n\n\n\n\nPhone \n\n\n0273049076 \n\n\n\n\nEmail \n\n\nmareecollins1@gmail.com \n\n\n\n\nUser ID \n\n\nmareecollins1 \n\n\n\n\nFrom Date \n\n\nAugust 9\, 2026 \n\n\n\n\nFrom Time \n\n\n10:00 AM \n\n\n\n\nTo Date \n\n\nAugust 9\, 2026 \n\n\n\n\nTo Time \n\n\n2:00 PM \n\n\n\n\nName of Event (or reason for hiring) \n\n\nClub Event \n\n\n\n\nName \n\n\nMaree Collins \n\n\n\n\nMob \n\n\n0273049076 \n\n\n\n\n\nI have read and agree to the Egmont  Showgrounds Terms and Conditions of Use. \n\n\n\n\n\nI confirm that I / our group or organisation  has an active and compliant Health & Safety policy / programme. \n\n\n\n\nTSB Centre – Estimate \n\n\n4 hours \n\n\n\n\nIP Address \n\n\n121.74.173.163 \n\n\n\n\nUser-Agent (Browser/OS) \n\n\nGoogle Chrome 139.0.0.0 / Windows \n\n\n\n\nReferrer \n\n\nhttps://www.egmontshowgrounds.org.nz/book-online/?frm_message=complete&user=113 \n\n\n\n\n 
URL:https://www.egmontshowgrounds.org.nz/event/coastal-adult-riding-club-event-tsb-indoor-arena-stables-2/
END:VEVENT
BEGIN:VEVENT
DTSTART;VALUE=DATE:20260810
DTEND;VALUE=DATE:20260811
DTSTAMP:20260423T230625
CREATED:20260216T094111Z
LAST-MODIFIED:20260312T112602Z
UID:5176-1786320000-1786406399@www.egmontshowgrounds.org.nz
SUMMARY:NZ Farmers Livestock Ltd - D Block Stables
DESCRIPTION:Booking made 16.2.2026 \n\n\n\n\nVenue Hirer (Organisation) \n\n\nNZ Farmers Livestock Ltd \n\n\n\n\nContact Person \n\n\nJoanne Richards \n\n\n\n\nPhone \n\n\n0274403323 \n\n\n\n\nEmail \n\n\njoanne.richards@nzfll.co.nz \n\n\n\n\nUser ID \n\n\njoanne.richards
URL:https://www.egmontshowgrounds.org.nz/event/nz-farmers-livestock-ltd-d-block-stables-5/
END:VEVENT
BEGIN:VEVENT
DTSTART;VALUE=DATE:20260812
DTEND;VALUE=DATE:20260813
DTSTAMP:20260423T230625
CREATED:20260312T112602Z
LAST-MODIFIED:20260312T112602Z
UID:5231-1786492800-1786579199@www.egmontshowgrounds.org.nz
SUMMARY:Hawera RDA - RDA Room\, RDA Paddock & Stables
DESCRIPTION:
URL:https://www.egmontshowgrounds.org.nz/event/hawera-rda-rda-room-rda-paddock-stables-16/
END:VEVENT
BEGIN:VEVENT
DTSTART;VALUE=DATE:20260817
DTEND;VALUE=DATE:20260818
DTSTAMP:20260423T230625
CREATED:20260216T094111Z
LAST-MODIFIED:20260311T112527Z
UID:5177-1786924800-1787011199@www.egmontshowgrounds.org.nz
SUMMARY:NZ Farmers Livestock Ltd - D Block Stables
DESCRIPTION:Booking made 16.2.2026 \n\n\n\n\nVenue Hirer (Organisation) \n\n\nNZ Farmers Livestock Ltd \n\n\n\n\nContact Person \n\n\nJoanne Richards \n\n\n\n\nPhone \n\n\n0274403323 \n\n\n\n\nEmail \n\n\njoanne.richards@nzfll.co.nz \n\n\n\n\nUser ID \n\n\njoanne.richards
URL:https://www.egmontshowgrounds.org.nz/event/nz-farmers-livestock-ltd-d-block-stables-6/
END:VEVENT
BEGIN:VEVENT
DTSTART;VALUE=DATE:20260817
DTEND;VALUE=DATE:20260818
DTSTAMP:20260423T230625
CREATED:20260312T112602Z
LAST-MODIFIED:20260312T112602Z
UID:5232-1786924800-1787011199@www.egmontshowgrounds.org.nz
SUMMARY:Executive Committee Meeting
DESCRIPTION:
URL:https://www.egmontshowgrounds.org.nz/event/executive-committee-meeting-5/
END:VEVENT
BEGIN:VEVENT
DTSTART;VALUE=DATE:20260824
DTEND;VALUE=DATE:20260825
DTSTAMP:20260423T230625
CREATED:20260216T094111Z
LAST-MODIFIED:20260311T112527Z
UID:5178-1787529600-1787615999@www.egmontshowgrounds.org.nz
SUMMARY:NZ Farmers Livestock Ltd - D Block Stables
DESCRIPTION:Booking made 16.2.2026 \n\n\n\n\nVenue Hirer (Organisation) \n\n\nNZ Farmers Livestock Ltd \n\n\n\n\nContact Person \n\n\nJoanne Richards \n\n\n\n\nPhone \n\n\n0274403323 \n\n\n\n\nEmail \n\n\njoanne.richards@nzfll.co.nz \n\n\n\n\nUser ID \n\n\njoanne.richards
URL:https://www.egmontshowgrounds.org.nz/event/nz-farmers-livestock-ltd-d-block-stables-7/
END:VEVENT
END:VCALENDAR