BEGIN:VCALENDAR
VERSION:2.0
PRODID:-//Egmont A &amp; P Association - ECPv6.15.20//NONSGML v1.0//EN
CALSCALE:GREGORIAN
METHOD:PUBLISH
X-ORIGINAL-URL:https://www.egmontshowgrounds.org.nz
X-WR-CALDESC:Events for Egmont A &amp; P Association
REFRESH-INTERVAL;VALUE=DURATION:PT1H
X-Robots-Tag:noindex
X-PUBLISHED-TTL:PT1H
BEGIN:VTIMEZONE
TZID:Pacific/Auckland
BEGIN:STANDARD
TZOFFSETFROM:+1300
TZOFFSETTO:+1200
TZNAME:NZST
DTSTART:20250405T140000
END:STANDARD
BEGIN:DAYLIGHT
TZOFFSETFROM:+1200
TZOFFSETTO:+1300
TZNAME:NZDT
DTSTART:20250927T140000
END:DAYLIGHT
BEGIN:STANDARD
TZOFFSETFROM:+1300
TZOFFSETTO:+1200
TZNAME:NZST
DTSTART:20260404T140000
END:STANDARD
BEGIN:DAYLIGHT
TZOFFSETFROM:+1200
TZOFFSETTO:+1300
TZNAME:NZDT
DTSTART:20260926T140000
END:DAYLIGHT
BEGIN:STANDARD
TZOFFSETFROM:+1300
TZOFFSETTO:+1200
TZNAME:NZST
DTSTART:20270403T140000
END:STANDARD
BEGIN:DAYLIGHT
TZOFFSETFROM:+1200
TZOFFSETTO:+1300
TZNAME:NZDT
DTSTART:20270925T140000
END:DAYLIGHT
END:VTIMEZONE
BEGIN:VEVENT
DTSTART;VALUE=DATE:20260907
DTEND;VALUE=DATE:20260908
DTSTAMP:20260425T223431
CREATED:20260217T094033Z
LAST-MODIFIED:20260311T112527Z
UID:5180-1788739200-1788825599@www.egmontshowgrounds.org.nz
SUMMARY:St Joseph's School Cross Country
DESCRIPTION:Booking made 17.2.2026
URL:https://www.egmontshowgrounds.org.nz/event/st-josephs-school-cross-country-2/
END:VEVENT
BEGIN:VEVENT
DTSTART;VALUE=DATE:20260910
DTEND;VALUE=DATE:20260911
DTSTAMP:20260425T223431
CREATED:20260217T094033Z
LAST-MODIFIED:20260311T112527Z
UID:5181-1788998400-1789084799@www.egmontshowgrounds.org.nz
SUMMARY:St Joseph's School Cross Country
DESCRIPTION:Booking made 17.2.2026
URL:https://www.egmontshowgrounds.org.nz/event/st-josephs-school-cross-country-3/
END:VEVENT
BEGIN:VEVENT
DTSTART;VALUE=DATE:20260926
DTEND;VALUE=DATE:20260928
DTSTAMP:20260425T223431
CREATED:20260209T092540Z
LAST-MODIFIED:20260311T112527Z
UID:5158-1790380800-1790553599@www.egmontshowgrounds.org.nz
SUMMARY:Dressage Taranaki - TSB Indoor Arena\, Sand Arena\, RDA Room & Stables
DESCRIPTION:Booking confirmed 10.2.2026 \nAs per email from Michele Nelly 5.2.2026 \nHi Angela\, \nCan you please pencil in the following dates for us: \n  \n9/10 May \n13/14 June \n4/5 July \n26/27 September \n  \nWe will require the Indoor\, the outdoor sand\, the RDA roomand some covered yards please.  I will try to get the forms to you nextweek. \n  \nThanks \nMichele \n 
URL:https://www.egmontshowgrounds.org.nz/event/tbc-dressage-taranaki-tsb-indoor-arena-sand-arena-rda-room-stables-4/
END:VEVENT
BEGIN:VEVENT
DTSTART;VALUE=DATE:20260926
DTEND;VALUE=DATE:20260928
DTSTAMP:20260425T223431
CREATED:20260211T092829Z
LAST-MODIFIED:20260311T112528Z
UID:5164-1790380800-1790553599@www.egmontshowgrounds.org.nz
SUMMARY:RDA Room Booked
DESCRIPTION:
URL:https://www.egmontshowgrounds.org.nz/event/rda-room-booked-30/
END:VEVENT
END:VCALENDAR