BEGIN:VCALENDAR
VERSION:2.0
PRODID:-//Egmont A &amp; P Association - ECPv6.15.20//NONSGML v1.0//EN
CALSCALE:GREGORIAN
METHOD:PUBLISH
X-ORIGINAL-URL:https://www.egmontshowgrounds.org.nz
X-WR-CALDESC:Events for Egmont A &amp; P Association
REFRESH-INTERVAL;VALUE=DURATION:PT1H
X-Robots-Tag:noindex
X-PUBLISHED-TTL:PT1H
BEGIN:VTIMEZONE
TZID:Pacific/Auckland
BEGIN:STANDARD
TZOFFSETFROM:+1300
TZOFFSETTO:+1200
TZNAME:NZST
DTSTART:20250405T140000
END:STANDARD
BEGIN:DAYLIGHT
TZOFFSETFROM:+1200
TZOFFSETTO:+1300
TZNAME:NZDT
DTSTART:20250927T140000
END:DAYLIGHT
BEGIN:STANDARD
TZOFFSETFROM:+1300
TZOFFSETTO:+1200
TZNAME:NZST
DTSTART:20260404T140000
END:STANDARD
BEGIN:DAYLIGHT
TZOFFSETFROM:+1200
TZOFFSETTO:+1300
TZNAME:NZDT
DTSTART:20260926T140000
END:DAYLIGHT
BEGIN:STANDARD
TZOFFSETFROM:+1300
TZOFFSETTO:+1200
TZNAME:NZST
DTSTART:20270403T140000
END:STANDARD
BEGIN:DAYLIGHT
TZOFFSETFROM:+1200
TZOFFSETTO:+1300
TZNAME:NZDT
DTSTART:20270925T140000
END:DAYLIGHT
END:VTIMEZONE
BEGIN:VEVENT
DTSTART;TZID=Pacific/Auckland:20261009T080000
DTEND;TZID=Pacific/Auckland:20261011T180000
DTSTAMP:20260426T002122
CREATED:20251110T124117Z
LAST-MODIFIED:20260311T112528Z
UID:4997-1791532800-1791741600@www.egmontshowgrounds.org.nz
SUMMARY:Hubert Heule Clinic SnS Quarter Horses - TSB\, Stables\, RDA Room
DESCRIPTION:Booking made 27.10.2025\nPeachy Scahill 0210292 7989\nRDA form sent to Bev 28.10.2025
URL:https://www.egmontshowgrounds.org.nz/event/hubert-heule-clinic-sns-quarter-horses-tsb-stables-rda-room/
END:VEVENT
BEGIN:VEVENT
DTSTART;VALUE=DATE:20261024
DTEND;VALUE=DATE:20261025
DTSTAMP:20260426T002122
CREATED:20251116T125540Z
LAST-MODIFIED:20260311T112539Z
UID:5014-1792800000-1792886399@www.egmontshowgrounds.org.nz
SUMMARY:Calf & Lamb Champs - Oval\, Patrons Room
DESCRIPTION:
URL:https://www.egmontshowgrounds.org.nz/event/calf-lamb-champs-oval-patrons-room/
END:VEVENT
BEGIN:VEVENT
DTSTART;VALUE=DATE:20261024
DTEND;VALUE=DATE:20261025
DTSTAMP:20260426T002122
CREATED:20251117T125728Z
LAST-MODIFIED:20260311T112528Z
UID:5017-1792800000-1792886399@www.egmontshowgrounds.org.nz
SUMMARY:RDA Room Booked
DESCRIPTION:
URL:https://www.egmontshowgrounds.org.nz/event/rda-room-booked-26/
END:VEVENT
BEGIN:VEVENT
DTSTART;VALUE=DATE:20261024
DTEND;VALUE=DATE:20261027
DTSTAMP:20260426T002122
CREATED:20251117T125728Z
LAST-MODIFIED:20260311T112528Z
UID:5018-1792800000-1793059199@www.egmontshowgrounds.org.nz
SUMMARY:Mt2Surf/TMHS - Horse Show - TSB Indoor Arena\, RDA Room\, Stables
DESCRIPTION:Booking made via Sharon stevens e-mail & Program 22.7.2024\nBooking forms to follow\nBooking confirmed by Doug Gelling 13.8.2024\n027 238 5024\nTSB x 3 days\n20 yards – D Block\nRDA x 3 days\nCamping
URL:https://www.egmontshowgrounds.org.nz/event/mt2surf-tmhs-horse-show-tsb-indoor-arena-rda-room-stables/
END:VEVENT
END:VCALENDAR