BEGIN:VCALENDAR
VERSION:2.0
PRODID:-//Egmont A &amp; P Association - ECPv6.15.20//NONSGML v1.0//EN
CALSCALE:GREGORIAN
METHOD:PUBLISH
X-WR-CALNAME:Egmont A &amp; P Association
X-ORIGINAL-URL:https://www.egmontshowgrounds.org.nz
X-WR-CALDESC:Events for Egmont A &amp; P Association
REFRESH-INTERVAL;VALUE=DURATION:PT1H
X-Robots-Tag:noindex
X-PUBLISHED-TTL:PT1H
BEGIN:VTIMEZONE
TZID:Pacific/Auckland
BEGIN:STANDARD
TZOFFSETFROM:+1300
TZOFFSETTO:+1200
TZNAME:NZST
DTSTART:20260404T140000
END:STANDARD
BEGIN:DAYLIGHT
TZOFFSETFROM:+1200
TZOFFSETTO:+1300
TZNAME:NZDT
DTSTART:20260926T140000
END:DAYLIGHT
BEGIN:STANDARD
TZOFFSETFROM:+1300
TZOFFSETTO:+1200
TZNAME:NZST
DTSTART:20270403T140000
END:STANDARD
BEGIN:DAYLIGHT
TZOFFSETFROM:+1200
TZOFFSETTO:+1300
TZNAME:NZDT
DTSTART:20270925T140000
END:DAYLIGHT
BEGIN:STANDARD
TZOFFSETFROM:+1300
TZOFFSETTO:+1200
TZNAME:NZST
DTSTART:20280401T140000
END:STANDARD
BEGIN:DAYLIGHT
TZOFFSETFROM:+1200
TZOFFSETTO:+1300
TZNAME:NZDT
DTSTART:20280923T140000
END:DAYLIGHT
END:VTIMEZONE
BEGIN:VEVENT
DTSTART;VALUE=DATE:20270102
DTEND;VALUE=DATE:20270105
DTSTAMP:20260426T053347
CREATED:20260302T104037Z
LAST-MODIFIED:20260311T112540Z
UID:5201-1798848000-1799107199@www.egmontshowgrounds.org.nz
SUMMARY:Patea Carlyle Pony Club Camp - TSB\, Stables\, RDA Building
DESCRIPTION:Venue Hirer (Organisation) \n\n\npatea carlyle pc \n\n\n\n\nContact Person \n\n\nsue Cole \n\n\n\n\nPhone \n\n\n0272964091 \n\n\n\n\nEmail \n\n\nas.cole@xtra.co.nz \n\n\n\n\nUser ID \n\n\nas.cole \n\n\n\n\nFrom Date \n\n\nJanuary 2\, 2027 \n\n\n\n\nFrom Time \n\n\n8:00 AM \n\n\n\n\nTo Date \n\n\nJanuary 4\, 2027 \n\n\n\n\nTo Time \n\n\n3:00 PM \n\n\n\n\nName of Event (or reason for hiring) \n\n\npatea carlyle pc camp \n\n\n\n\nName \n\n\nsue cole \n\n\n\n\nMob \n\n\n0272964091 \n\n\n\n\n\nI have read and agree to the Egmont  Showgrounds Terms and Conditions of Use. \n\n\n\n\n\nI confirm that I / our group or organisation  has an active and compliant Health & Safety policy / programme. \n\n\n\n\nTSB Centre – Estimate \n\n\n2 days 2 hours \n\n\n\n\nStables / Covered Yards – Estimate \n\n\n2 nights \n\n\n\n\nRDA Building – Estimate \n\n\n3 days \n\n\n\n\nCamping – Without Power per truck – Estimate \n\n\n2 nights \n\n\n\n\nIP Address \n\n\n103.162.176.68 \n\n\n\n\nUser-Agent (Browser/OS) \n\n\nApple Safari 18.5 / OS X \n\n\n\n\nReferrer \n\n\nhttps://www.egmontshowgrounds.org.nz/book-online/
URL:https://www.egmontshowgrounds.org.nz/event/patea-carlyle-pony-club-camp-tsb-stables-rda-building/
END:VEVENT
BEGIN:VEVENT
DTSTART;VALUE=DATE:20270109
DTEND;VALUE=DATE:20270111
DTSTAMP:20260426T053347
CREATED:20260121T074035Z
LAST-MODIFIED:20260311T112540Z
UID:5119-1799452800-1799625599@www.egmontshowgrounds.org.nz
SUMMARY:Dressage Taranaki Championship Show 2027 - Oval\, Sand Arena\, TSB\, Office
DESCRIPTION:12.8.2025 As per email from Michele Nelly 11.8.2025 – penciled in until meeting to confirm dates – alternative date of 16th – 17th January in the system as well \n18.9.2025  \nHi Angela\, \nRE the above/below dates for our Champs Shows.  2026 asis. \n2027 we have decided to go with the 9th and 10th of January. \nThanks \nMichele
URL:https://www.egmontshowgrounds.org.nz/event/dressage-taranaki-championship-show-2027-oval-sand-arena-tsb-office/
END:VEVENT
BEGIN:VEVENT
DTSTART;TZID=Pacific/Auckland:20270109T080000
DTEND;TZID=Pacific/Auckland:20270110T170000
DTSTAMP:20260426T053347
CREATED:20250804T213529Z
LAST-MODIFIED:20250804T213529Z
UID:4735-1799481600-1799600400@www.egmontshowgrounds.org.nz
SUMMARY:Dressage Taranaki Championship Show 2027
DESCRIPTION:
URL:https://www.egmontshowgrounds.org.nz/event/dressage-taranaki-championship-show-2027/
END:VEVENT
BEGIN:VEVENT
DTSTART;VALUE=DATE:20270110
DTEND;VALUE=DATE:20270115
DTSTAMP:20260426T053347
CREATED:20250829T062705Z
LAST-MODIFIED:20260311T112540Z
UID:4822-1799539200-1799971199@www.egmontshowgrounds.org.nz
SUMMARY:Taranaki Area Pony Club - NZPCA Champs week
DESCRIPTION:Re email from Linda 28.8.202529.8.2025 – Booking for sent. \nGood afternoon \n  \nCan we please book the grounds from the 11th January – 14thJanuary. \nChamps week is a National Event incorporating Dressage\,Show Jumping and Games.  It is an event run under the NZPCA umbrella\,where teams from all over the North Island attend to vie for the bestarea  in New Zealand. \nWith this in mind will run into the weekend of PremierLeague show for Dressage Taranaki and may gain more entries. \nI look forward to hearing from you \n  \nRegards \nLinda Huitson \nTaranaki Area Pony Clubs \nPresident.
URL:https://www.egmontshowgrounds.org.nz/event/taranaki-area-pony-club-nzpca-champs-week-2/
END:VEVENT
BEGIN:VEVENT
DTSTART;TZID=Pacific/Auckland:20270110T080000
DTEND;TZID=Pacific/Auckland:20270114T170000
DTSTAMP:20260426T053347
CREATED:20250828T233132Z
LAST-MODIFIED:20251001T223552Z
UID:4818-1799568000-1799946000@www.egmontshowgrounds.org.nz
SUMMARY:Taranaki Area Pony Club - NZPCA Champs week - Burnside Ave\, TSB Indoor\, Patrons Room
DESCRIPTION:
URL:https://www.egmontshowgrounds.org.nz/event/taranaki-area-pony-club-nzpca-champs-week/
END:VEVENT
BEGIN:VEVENT
DTSTART;TZID=Pacific/Auckland:20270115T080000
DTEND;TZID=Pacific/Auckland:20270116T170000
DTSTAMP:20260426T053347
CREATED:20250804T212347Z
LAST-MODIFIED:20250804T212508Z
UID:4729-1800000000-1800118800@www.egmontshowgrounds.org.nz
SUMMARY:TEJ TBC
DESCRIPTION:
URL:https://www.egmontshowgrounds.org.nz/event/tej-tbc-3/
END:VEVENT
BEGIN:VEVENT
DTSTART;VALUE=DATE:20270122
DTEND;VALUE=DATE:20270125
DTSTAMP:20260426T053347
CREATED:20260131T091053Z
LAST-MODIFIED:20260206T091215Z
UID:5138-1800576000-1800835199@www.egmontshowgrounds.org.nz
SUMMARY:TBC TEJ
DESCRIPTION:
URL:https://www.egmontshowgrounds.org.nz/event/tbc-tej/
END:VEVENT
BEGIN:VEVENT
DTSTART;TZID=Pacific/Auckland:20270122T080000
DTEND;TZID=Pacific/Auckland:20270124T170000
DTSTAMP:20260426T053347
CREATED:20250804T212427Z
LAST-MODIFIED:20250804T212427Z
UID:4730-1800604800-1800810000@www.egmontshowgrounds.org.nz
SUMMARY:TEJ TBC
DESCRIPTION:
URL:https://www.egmontshowgrounds.org.nz/event/tej-tbc-4/
END:VEVENT
END:VCALENDAR