BEGIN:VCALENDAR
VERSION:2.0
PRODID:-//Egmont A &amp; P Association - ECPv6.15.20//NONSGML v1.0//EN
CALSCALE:GREGORIAN
METHOD:PUBLISH
X-WR-CALNAME:Egmont A &amp; P Association
X-ORIGINAL-URL:https://www.egmontshowgrounds.org.nz
X-WR-CALDESC:Events for Egmont A &amp; P Association
REFRESH-INTERVAL;VALUE=DURATION:PT1H
X-Robots-Tag:noindex
X-PUBLISHED-TTL:PT1H
BEGIN:VTIMEZONE
TZID:Pacific/Auckland
BEGIN:STANDARD
TZOFFSETFROM:+1300
TZOFFSETTO:+1200
TZNAME:NZST
DTSTART:20260404T140000
END:STANDARD
BEGIN:DAYLIGHT
TZOFFSETFROM:+1200
TZOFFSETTO:+1300
TZNAME:NZDT
DTSTART:20260926T140000
END:DAYLIGHT
BEGIN:STANDARD
TZOFFSETFROM:+1300
TZOFFSETTO:+1200
TZNAME:NZST
DTSTART:20270403T140000
END:STANDARD
BEGIN:DAYLIGHT
TZOFFSETFROM:+1200
TZOFFSETTO:+1300
TZNAME:NZDT
DTSTART:20270925T140000
END:DAYLIGHT
BEGIN:STANDARD
TZOFFSETFROM:+1300
TZOFFSETTO:+1200
TZNAME:NZST
DTSTART:20280401T140000
END:STANDARD
BEGIN:DAYLIGHT
TZOFFSETFROM:+1200
TZOFFSETTO:+1300
TZNAME:NZDT
DTSTART:20280923T140000
END:DAYLIGHT
END:VTIMEZONE
BEGIN:VEVENT
DTSTART;VALUE=DATE:20270206
DTEND;VALUE=DATE:20270208
DTSTAMP:20260426T085802
CREATED:20260203T091127Z
LAST-MODIFIED:20260203T091127Z
UID:5144-1801872000-1802044799@www.egmontshowgrounds.org.nz
SUMMARY:TMHS Champs TBC
DESCRIPTION:
URL:https://www.egmontshowgrounds.org.nz/event/tmhs-champs-tbc-3/
END:VEVENT
BEGIN:VEVENT
DTSTART;TZID=Pacific/Auckland:20270206T080000
DTEND;TZID=Pacific/Auckland:20270207T170000
DTSTAMP:20260426T085802
CREATED:20250804T213224Z
LAST-MODIFIED:20260107T203221Z
UID:4734-1801900800-1802019600@www.egmontshowgrounds.org.nz
SUMMARY:TMHS Champs - RDA Room\, TSB Indoor Arena & Stables
DESCRIPTION:
URL:https://www.egmontshowgrounds.org.nz/event/tmhs-champs-tbc/
END:VEVENT
BEGIN:VEVENT
DTSTART;VALUE=DATE:20270208
DTEND;VALUE=DATE:20270219
DTSTAMP:20260426T085802
CREATED:20260202T091054Z
LAST-MODIFIED:20260202T091054Z
UID:5142-1802044800-1802995199@www.egmontshowgrounds.org.nz
SUMMARY:TBC - No bookings Burnside Ave - Show Prep
DESCRIPTION:
URL:https://www.egmontshowgrounds.org.nz/event/tbc-no-bookings-burnside-ave-show-prep-2/
END:VEVENT
BEGIN:VEVENT
DTSTART;TZID=Pacific/Auckland:20270208T080000
DTEND;TZID=Pacific/Auckland:20270219T170000
DTSTAMP:20260426T085802
CREATED:20250804T213627Z
LAST-MODIFIED:20260107T203012Z
UID:4736-1802073600-1803056400@www.egmontshowgrounds.org.nz
SUMMARY:No bookings Burnside Ave - Show Prep
DESCRIPTION:
URL:https://www.egmontshowgrounds.org.nz/event/tbc-no-bookings-burnside-ave-show-prep/
END:VEVENT
BEGIN:VEVENT
DTSTART;TZID=Pacific/Auckland:20270220T080000
DTEND;TZID=Pacific/Auckland:20270221T170000
DTSTAMP:20260426T085802
CREATED:20250804T213701Z
LAST-MODIFIED:20250804T213701Z
UID:4737-1803110400-1803229200@www.egmontshowgrounds.org.nz
SUMMARY:Egmont A & P Show
DESCRIPTION:
URL:https://www.egmontshowgrounds.org.nz/event/egmont-a-p-show-3/
END:VEVENT
BEGIN:VEVENT
DTSTART;TZID=Pacific/Auckland:20270226T120000
DTEND;TZID=Pacific/Auckland:20270228T170000
DTSTAMP:20260426T085802
CREATED:20251021T193504Z
LAST-MODIFIED:20251021T193504Z
UID:4960-1803643200-1803834000@www.egmontshowgrounds.org.nz
SUMMARY:NZCHA - Sand Arena\, TSB Indoor Arena\, Stables\, Camping
DESCRIPTION:
URL:https://www.egmontshowgrounds.org.nz/event/nzcha-sand-arena-tsb-indoor-arena-stables-camping/
END:VEVENT
END:VCALENDAR