BEGIN:VCALENDAR
VERSION:2.0
PRODID:-//Egmont A &amp; P Association - ECPv6.15.20//NONSGML v1.0//EN
CALSCALE:GREGORIAN
METHOD:PUBLISH
X-ORIGINAL-URL:https://www.egmontshowgrounds.org.nz
X-WR-CALDESC:Events for Egmont A &amp; P Association
REFRESH-INTERVAL;VALUE=DURATION:PT1H
X-Robots-Tag:noindex
X-PUBLISHED-TTL:PT1H
BEGIN:VTIMEZONE
TZID:Pacific/Auckland
BEGIN:STANDARD
TZOFFSETFROM:+1300
TZOFFSETTO:+1200
TZNAME:NZST
DTSTART:20260404T140000
END:STANDARD
BEGIN:DAYLIGHT
TZOFFSETFROM:+1200
TZOFFSETTO:+1300
TZNAME:NZDT
DTSTART:20260926T140000
END:DAYLIGHT
BEGIN:STANDARD
TZOFFSETFROM:+1300
TZOFFSETTO:+1200
TZNAME:NZST
DTSTART:20270403T140000
END:STANDARD
BEGIN:DAYLIGHT
TZOFFSETFROM:+1200
TZOFFSETTO:+1300
TZNAME:NZDT
DTSTART:20270925T140000
END:DAYLIGHT
BEGIN:STANDARD
TZOFFSETFROM:+1300
TZOFFSETTO:+1200
TZNAME:NZST
DTSTART:20280401T140000
END:STANDARD
BEGIN:DAYLIGHT
TZOFFSETFROM:+1200
TZOFFSETTO:+1300
TZNAME:NZDT
DTSTART:20280923T140000
END:DAYLIGHT
END:VTIMEZONE
BEGIN:VEVENT
DTSTART;TZID=Pacific/Auckland:20270314T080000
DTEND;TZID=Pacific/Auckland:20270314T170000
DTSTAMP:20260426T121150
CREATED:20250804T213810Z
LAST-MODIFIED:20250804T213810Z
UID:4738-1805011200-1805043600@www.egmontshowgrounds.org.nz
SUMMARY:Mt2Surf
DESCRIPTION:
URL:https://www.egmontshowgrounds.org.nz/event/mt2surf-3/
END:VEVENT
BEGIN:VEVENT
DTSTART;TZID=Pacific/Auckland:20270320T080000
DTEND;TZID=Pacific/Auckland:20270321T170000
DTSTAMP:20260426T121150
CREATED:20250804T213844Z
LAST-MODIFIED:20250804T213844Z
UID:4739-1805529600-1805648400@www.egmontshowgrounds.org.nz
SUMMARY:TMHS/NMHSNZ
DESCRIPTION:
URL:https://www.egmontshowgrounds.org.nz/event/tmhs-nmhsnz/
END:VEVENT
BEGIN:VEVENT
DTSTART;TZID=Pacific/Auckland:20270322T080000
DTEND;TZID=Pacific/Auckland:20270324T170000
DTSTAMP:20260426T121150
CREATED:20250805T032844Z
LAST-MODIFIED:20250805T032844Z
UID:4745-1805702400-1805907600@www.egmontshowgrounds.org.nz
SUMMARY:Horses arriving
DESCRIPTION:
URL:https://www.egmontshowgrounds.org.nz/event/horses-arriving-3/
END:VEVENT
BEGIN:VEVENT
DTSTART;TZID=Pacific/Auckland:20270324T080000
DTEND;TZID=Pacific/Auckland:20270328T170000
DTSTAMP:20260426T121150
CREATED:20250804T001204Z
LAST-MODIFIED:20260224T223544Z
UID:4717-1805875200-1806253200@www.egmontshowgrounds.org.nz
SUMMARY:New Zealand Miniature Horse Association - National Show
DESCRIPTION:
URL:https://www.egmontshowgrounds.org.nz/event/new-zealand-miniature-horse-association-national-show/
END:VEVENT
END:VCALENDAR